BEGIN:VCALENDAR
VERSION:2.0
PRODID:-//Joan Meschino - ECPv6.15.20//NONSGML v1.0//EN
CALSCALE:GREGORIAN
METHOD:PUBLISH
X-ORIGINAL-URL:https://joanmeschino.com
X-WR-CALDESC:Events for Joan Meschino
REFRESH-INTERVAL;VALUE=DURATION:PT1H
X-Robots-Tag:noindex
X-PUBLISHED-TTL:PT1H
BEGIN:VTIMEZONE
TZID:America/New_York
BEGIN:DAYLIGHT
TZOFFSETFROM:-0500
TZOFFSETTO:-0400
TZNAME:EDT
DTSTART:20230312T070000
END:DAYLIGHT
BEGIN:STANDARD
TZOFFSETFROM:-0400
TZOFFSETTO:-0500
TZNAME:EST
DTSTART:20231105T060000
END:STANDARD
BEGIN:DAYLIGHT
TZOFFSETFROM:-0500
TZOFFSETTO:-0400
TZNAME:EDT
DTSTART:20240310T070000
END:DAYLIGHT
BEGIN:STANDARD
TZOFFSETFROM:-0400
TZOFFSETTO:-0500
TZNAME:EST
DTSTART:20241103T060000
END:STANDARD
BEGIN:DAYLIGHT
TZOFFSETFROM:-0500
TZOFFSETTO:-0400
TZNAME:EDT
DTSTART:20250309T070000
END:DAYLIGHT
BEGIN:STANDARD
TZOFFSETFROM:-0400
TZOFFSETTO:-0500
TZNAME:EST
DTSTART:20251102T060000
END:STANDARD
END:VTIMEZONE
BEGIN:VEVENT
DTSTART;TZID=America/New_York:20241202T100000
DTEND;TZID=America/New_York:20241202T110000
DTSTAMP:20260423T051820
CREATED:20240905T171819Z
LAST-MODIFIED:20240905T171819Z
UID:1889-1733133600-1733137200@joanmeschino.com
SUMMARY:In-Person Office Hours
DESCRIPTION:These Office Hours will be held at Linden Ponds for Linden Ponds residents only. This is a drop-in session; no RSVP required!
URL:https://joanmeschino.com/event/in-person-office-hours-135/
LOCATION:MA
END:VEVENT
BEGIN:VEVENT
DTSTART;TZID=America/New_York:20241209T090000
DTEND;TZID=America/New_York:20241209T123000
DTSTAMP:20260423T051820
CREATED:20240905T172234Z
LAST-MODIFIED:20240905T172234Z
UID:1892-1733734800-1733747400@joanmeschino.com
SUMMARY:In-Person Office Hours
DESCRIPTION:These Office Hours will be held at Willcutt Commons (91 Sohier Street\, Cohasset). This is a drop-in session; no RSVP required!
URL:https://joanmeschino.com/event/in-person-office-hours-138/
LOCATION:MA
END:VEVENT
BEGIN:VEVENT
DTSTART;TZID=America/New_York:20241216T090000
DTEND;TZID=America/New_York:20241216T100000
DTSTAMP:20260423T051820
CREATED:20240905T172626Z
LAST-MODIFIED:20240905T172626Z
UID:1895-1734339600-1734343200@joanmeschino.com
SUMMARY:In-Person Office Hours
DESCRIPTION:These office hours will be held at the Hull Council on Aging (197A Samoset Ave\, Hull). This is a drop-in session; no RSVP required!
URL:https://joanmeschino.com/event/in-person-office-hours-141/
LOCATION:Hull Council on Aging\, 197A Samoset Ave\, Hull\, MA\, 02045\, United States
END:VEVENT
END:VCALENDAR